BEGIN:VCALENDAR
VERSION:2.0
PRODID:-//Wurzelrudis Erlebniswelt / SkiArena Eibenstock - ECPv6.5.1.4//NONSGML v1.0//EN
CALSCALE:GREGORIAN
METHOD:PUBLISH
X-WR-CALNAME:Wurzelrudis Erlebniswelt / SkiArena Eibenstock
X-ORIGINAL-URL:https://sommer.skiarena-eibenstock.de
X-WR-CALDESC:Veranstaltungen für Wurzelrudis Erlebniswelt / SkiArena Eibenstock
REFRESH-INTERVAL;VALUE=DURATION:PT1H
X-Robots-Tag:noindex
X-PUBLISHED-TTL:PT1H
BEGIN:VTIMEZONE
TZID:UTC
BEGIN:STANDARD
TZOFFSETFROM:+0000
TZOFFSETTO:+0000
TZNAME:UTC
DTSTART:20220101T000000
END:STANDARD
END:VTIMEZONE
BEGIN:VEVENT
DTSTART;TZID=UTC:20220605T133000
DTEND;TZID=UTC:20220605T173000
DTSTAMP:20260423T095023
CREATED:20220603T164340Z
LAST-MODIFIED:20220603T164439Z
UID:3395-1654435800-1654450200@sommer.skiarena-eibenstock.de
SUMMARY:Pfingstsonntag mit der Familie
DESCRIPTION:Musik liegt in der Luft&#8230; \nDas DUO SYMPATICA unterhält mit LIVEMUSIK im Festgarten. Es ist Zeit den Frühling zu genießen und Wurzelrudis Erlebniswelt unsicher zu machen.
URL:https://sommer.skiarena-eibenstock.de/veranstaltung/pfingstsonntag-mit-der-familie/
LOCATION:Wurzelrudis Erlebniswelt\, Lohgasse 1\, Eibenstock\, Sachsen\, 08309\, Deutschland
CATEGORIES:Live Musik,Sommer mit Wurzelrudi
ATTACH;FMTTYPE=image/jpeg:https://sommer.skiarena-eibenstock.de/wp-content/uploads/2020/11/IMG_5770.jpg
ORGANIZER;CN="Touristenzentrum am Adlerfelsen GmbH":MAILTO:info@wurzelrudi.de
END:VEVENT
END:VCALENDAR